BEGIN:VCALENDAR
VERSION:2.0
PRODID:-//wp-events-plugin.com//6.4.7.3//EN
TZID:Europe/Vienna
X-WR-TIMEZONE:Europe/Vienna
BEGIN:VEVENT
UID:2232@teamcalendar.eu
DTSTART;TZID=Europe/Vienna:20241114T190000
DTEND;TZID=Europe/Vienna:20241114T210000
DTSTAMP:20241023T130411Z
URL:https://teamcalendar.eu/events/austria-mega-tour-klagenfurt/
SUMMARY:Klagenfurt am Wörthersee\, Austria Mega Tour - KLAGENFURT – Erke
 nnen Sie die Geschäftsmöglichkeit mit Eqology
DESCRIPTION:Entdecke das Potenzial von Network Marketing und erfahre mehr 
 über die Chancen einer Zusammenarbeit mit der Firma Eqology\, dem Experte
 n für hochwertige Omega-3-Fettsäure Produkte aus dem arktischen Meer.\, 
 https://teamcalendar.eu/events/austria-mega-tour-klagenfurt/ical/
CATEGORIES:Geschäftspräsentation
LOCATION:DER SANDWIRTH\, Pernhartgasse 9\, Klagenfurt am Wörthersee\, Kär
 nten\, 9020 \, Österreich
GEO:46.623501;14.304701
X-APPLE-STRUCTURED-LOCATION;VALUE=URI;X-ADDRESS=Pernhartgasse 9\, Klagenfur
 t am Wörthersee\, Kärnten\, 9020 \, Österreich;X-APPLE-RADIUS=100;X-TIT
 LE=DER SANDWIRTH:geo:46.623501,14.304701
END:VEVENT
BEGIN:VTIMEZONE
TZID:Europe/Vienna
X-LIC-LOCATION:Europe/Vienna
BEGIN:STANDARD
DTSTART:20241027T020000
TZOFFSETFROM:+0200
TZOFFSETTO:+0100
TZNAME:CET
END:STANDARD
END:VTIMEZONE
END:VCALENDAR