BEGIN:VCALENDAR
VERSION:2.0
PRODID:-//wp-events-plugin.com//6.4.7.3//EN
TZID:Europe/Vienna
X-WR-TIMEZONE:Europe/Vienna
BEGIN:VEVENT
UID:2555@teamcalendar.eu
DTSTART;TZID=Europe/Vienna:20250516T183000
DTEND;TZID=Europe/Vienna:20250516T193000
DTSTAMP:20250506T120236Z
URL:https://teamcalendar.eu/events/%f0%9f%92%99-warum-wir-alle-omega-3-bra
 uchen/
SUMMARY:St. Stefan im Rosental\, 💙 Warum wir alle Omega-3 brauchen!
DESCRIPTION:„Gesundheit beginnt in jeder Zelle – für dich &amp\; deine
  Familie.“\n\n👩‍⚕️ Fachvortrag mit Dr. Irene Heschl-Koller\n(Eh
 emalige Frauenärztin &amp\; Gesundheitsexpertin)\n\n✔️ Stille Entzün
 dungen – die unsichtbare Gesundheitsgefahr\n✔️ Warum Omega-3 für di
 e ganze Familie unverzichtbar ist\n✔️ Der Weg zu mehr Vitalität &amp\
 ; Wohlbefinden – wissenschaftlich fundiert\n💌 Teilnahme kostenlos | A
 nmeldung erforderlich!\nEin Vortrag\, der dein Gesundheitsbewusstsein ver
 ändert.\, https://teamcalendar.eu/events/%f0%9f%92%99-warum-wir-alle-omeg
 a-3-brauchen/ical/
CATEGORIES:Produktvortrag
LOCATION:Gemeindeamt St. Stefan im Rosental\, Feldbacherstraße 24\, St. St
 efan im Rosental\, Steiermark\, 8083\, Österreich
GEO:46.906015;15.71219
X-APPLE-STRUCTURED-LOCATION;VALUE=URI;X-ADDRESS=Feldbacherstraße 24\, St. 
 Stefan im Rosental\, Steiermark\, 8083\, Österreich;X-APPLE-RADIUS=100;X-
 TITLE=Gemeindeamt St. Stefan im Rosental:geo:46.906015,15.71219
END:VEVENT
BEGIN:VTIMEZONE
TZID:Europe/Vienna
X-LIC-LOCATION:Europe/Vienna
BEGIN:DAYLIGHT
DTSTART:20250330T030000
TZOFFSETFROM:+0100
TZOFFSETTO:+0200
TZNAME:CEST
END:DAYLIGHT
END:VTIMEZONE
END:VCALENDAR